Package: mgsa Version: 1.55.0 Command: chmod a+r mgsa -R && E:\biocbuild\bbs-3.21-bioc\R\bin\R.exe CMD build --keep-empty-dirs --no-resave-data mgsa StartedAt: 2025-02-04 19:55:07 -0500 (Tue, 04 Feb 2025) EndedAt: 2025-02-04 19:55:49 -0500 (Tue, 04 Feb 2025) EllapsedTime: 41.8 seconds RetCode: 0 Status: OK PackageFile: mgsa_1.55.0.tar.gz PackageFileSize: 301.5 KiB