Package: mgsa Version: 1.55.0 Command: E:\biocbuild\bbs-3.21-bioc\R\bin\R.exe CMD check --no-multiarch --install=check:mgsa.install-out.txt --library=E:\biocbuild\bbs-3.21-bioc\R\library --no-vignettes --timings mgsa_1.55.0.tar.gz StartedAt: 2025-02-05 03:20:25 -0500 (Wed, 05 Feb 2025) EndedAt: 2025-02-05 03:21:21 -0500 (Wed, 05 Feb 2025) EllapsedTime: 55.7 seconds RetCode: 0 Status: WARNINGS CheckDir: mgsa.Rcheck Warnings: 1