Package: mgsa Version: 1.55.0 Command: E:\biocbuild\bbs-3.21-bioc\R\bin\R.exe CMD INSTALL mgsa StartedAt: 2025-02-04 15:19:57 -0500 (Tue, 04 Feb 2025) EndedAt: 2025-02-04 15:20:26 -0500 (Tue, 04 Feb 2025) EllapsedTime: 28.6 seconds RetCode: 0 Status: OK