Package: miQC Version: 1.15.0 Command: rm -rf miQC.buildbin-libdir && mkdir miQC.buildbin-libdir && /Users/biocbuild/BBS/utils/build-universal.sh miQC_1.15.0.tar.gz /Library/Frameworks/R.framework/Resources/bin/R miQC.buildbin-libdir StartedAt: 2025-02-10 01:02:57 -0500 (Mon, 10 Feb 2025) EndedAt: 2025-02-10 01:03:34 -0500 (Mon, 10 Feb 2025) EllapsedTime: 37.1 seconds RetCode: 0 Status: OK PackageFile: miQC_1.15.0.tgz PackageFileSize: 3.103 MiB