Package: miQC Version: 1.15.0 Command: /home/biocbuild/bbs-3.21-bioc/R/bin/R CMD INSTALL miQC StartedAt: 2025-02-12 15:24:42 -0500 (Wed, 12 Feb 2025) EndedAt: 2025-02-12 15:25:07 -0500 (Wed, 12 Feb 2025) EllapsedTime: 25.7 seconds RetCode: 0 Status: OK