Package: miQC Version: 1.15.0 Command: E:\biocbuild\bbs-3.21-bioc\R\bin\R.exe CMD INSTALL miQC StartedAt: 2025-02-12 16:14:58 -0500 (Wed, 12 Feb 2025) EndedAt: 2025-02-12 16:15:27 -0500 (Wed, 12 Feb 2025) EllapsedTime: 28.5 seconds RetCode: 0 Status: OK