Package: miRBaseConverter Version: 1.31.0 Command: /Library/Frameworks/R.framework/Resources/bin/R CMD build --keep-empty-dirs --no-resave-data miRBaseConverter StartedAt: 2025-02-09 16:57:27 -0500 (Sun, 09 Feb 2025) EndedAt: 2025-02-09 16:57:37 -0500 (Sun, 09 Feb 2025) EllapsedTime: 10.1 seconds RetCode: 0 Status: OK PackageFile: miRBaseConverter_1.31.0.tar.gz PackageFileSize: 1.939 MiB