Package: miRBaseConverter Version: 1.31.0 Command: /home/biocbuild/R/R/bin/R CMD build --keep-empty-dirs --no-resave-data miRBaseConverter StartedAt: 2025-01-29 00:22:09 -0000 (Wed, 29 Jan 2025) EndedAt: 2025-01-29 00:22:36 -0000 (Wed, 29 Jan 2025) EllapsedTime: 27.0 seconds RetCode: 0 Status: OK PackageFile: miRBaseConverter_1.31.0.tar.gz PackageFileSize: 1.962 MiB