Package: miRBaseConverter Version: 1.31.0 Command: /Library/Frameworks/R.framework/Resources/bin/R CMD INSTALL miRBaseConverter StartedAt: 2025-02-09 15:03:28 -0500 (Sun, 09 Feb 2025) EndedAt: 2025-02-09 15:03:45 -0500 (Sun, 09 Feb 2025) EllapsedTime: 17.0 seconds RetCode: 0 Status: OK