Package: miRBaseConverter Version: 1.31.0 Command: chmod a+r miRBaseConverter -R && E:\biocbuild\bbs-3.21-bioc\R\bin\R.exe CMD build --keep-empty-dirs --no-resave-data miRBaseConverter StartedAt: 2025-02-12 20:01:23 -0500 (Wed, 12 Feb 2025) EndedAt: 2025-02-12 20:01:57 -0500 (Wed, 12 Feb 2025) EllapsedTime: 33.6 seconds RetCode: 0 Status: OK PackageFile: miRBaseConverter_1.31.0.tar.gz PackageFileSize: 1.939 MiB