Package: miRNAtap Version: 1.41.0 Command: /Library/Frameworks/R.framework/Resources/bin/R CMD build --keep-empty-dirs --no-resave-data miRNAtap StartedAt: 2025-02-09 17:28:31 -0500 (Sun, 09 Feb 2025) EndedAt: 2025-02-09 17:29:19 -0500 (Sun, 09 Feb 2025) EllapsedTime: 48.0 seconds RetCode: 0 Status: OK PackageFile: miRNAtap_1.41.0.tar.gz PackageFileSize: 223 KiB