Package: miRNAtap Version: 1.41.0 Command: /Library/Frameworks/R.framework/Resources/bin/R CMD check --install=check:miRNAtap.install-out.txt --library=/Library/Frameworks/R.framework/Resources/library --no-vignettes --timings miRNAtap_1.41.0.tar.gz StartedAt: 2025-02-12 21:44:41 -0500 (Wed, 12 Feb 2025) EndedAt: 2025-02-12 21:46:46 -0500 (Wed, 12 Feb 2025) EllapsedTime: 124.8 seconds RetCode: 0 Status: OK CheckDir: miRNAtap.Rcheck Warnings: 0