Package: miRNAtap Version: 1.41.0 Command: /home/biocbuild/bbs-3.21-bioc/R/bin/R CMD build --keep-empty-dirs --no-resave-data miRNAtap StartedAt: 2025-02-09 18:09:33 -0500 (Sun, 09 Feb 2025) EndedAt: 2025-02-09 18:10:09 -0500 (Sun, 09 Feb 2025) EllapsedTime: 36.0 seconds RetCode: 0 Status: OK PackageFile: miRNAtap_1.41.0.tar.gz PackageFileSize: 224.1 KiB