Package: miRNAtap Version: 1.41.0 Command: rm -rf miRNAtap.buildbin-libdir && mkdir miRNAtap.buildbin-libdir && E:\biocbuild\bbs-3.21-bioc\R\bin\R.exe CMD INSTALL --build --library=miRNAtap.buildbin-libdir miRNAtap_1.41.0.tar.gz StartedAt: 2025-02-10 08:09:50 -0500 (Mon, 10 Feb 2025) EndedAt: 2025-02-10 08:10:29 -0500 (Mon, 10 Feb 2025) EllapsedTime: 39.1 seconds RetCode: 0 Status: OK PackageFile: miRNAtap_1.41.0.zip PackageFileSize: 438.9 KiB