Package: miRSM Version: 2.3.0 Command: /Library/Frameworks/R.framework/Resources/bin/R CMD check --install=check:miRSM.install-out.txt --library=/Library/Frameworks/R.framework/Resources/library --no-vignettes --timings miRSM_2.3.0.tar.gz StartedAt: 2025-02-04 20:10:44 -0500 (Tue, 04 Feb 2025) EndedAt: 2025-02-04 20:13:14 -0500 (Tue, 04 Feb 2025) EllapsedTime: 149.7 seconds RetCode: 0 Status: OK CheckDir: miRSM.Rcheck Warnings: 0