Package: miRSM Version: 2.3.0 Command: /Library/Frameworks/R.framework/Resources/bin/R CMD INSTALL miRSM StartedAt: 2025-02-09 15:24:19 -0500 (Sun, 09 Feb 2025) EndedAt: 2025-02-09 15:24:41 -0500 (Sun, 09 Feb 2025) EllapsedTime: 21.5 seconds RetCode: 0 Status: OK