Package: miRSM Version: 2.3.0 Command: /home/biocbuild/R/R/bin/R CMD INSTALL miRSM StartedAt: 2025-01-29 20:26:34 -0000 (Wed, 29 Jan 2025) EndedAt: 2025-01-29 20:26:47 -0000 (Wed, 29 Jan 2025) EllapsedTime: 13.5 seconds RetCode: 1 Status: ERROR