Package: miRSM Version: 2.3.0 Command: /Library/Frameworks/R.framework/Resources/bin/R CMD INSTALL miRSM StartedAt: 2025-02-04 15:37:58 -0500 (Tue, 04 Feb 2025) EndedAt: 2025-02-04 15:39:08 -0500 (Tue, 04 Feb 2025) EllapsedTime: 70.1 seconds RetCode: 0 Status: OK