Package: miRSM Version: 2.3.0 Command: /home/biocbuild/bbs-3.21-bioc/R/bin/R CMD build --keep-empty-dirs --no-resave-data miRSM StartedAt: 2025-02-04 18:07:24 -0500 (Tue, 04 Feb 2025) EndedAt: 2025-02-04 18:09:05 -0500 (Tue, 04 Feb 2025) EllapsedTime: 101.1 seconds RetCode: 0 Status: OK PackageFile: miRSM_2.3.0.tar.gz PackageFileSize: 911.9 KiB