Package: miRSM Version: 2.3.0 Command: /home/biocbuild/bbs-3.21-bioc/R/bin/R CMD INSTALL miRSM StartedAt: 2025-02-04 15:45:55 -0500 (Tue, 04 Feb 2025) EndedAt: 2025-02-04 15:46:47 -0500 (Tue, 04 Feb 2025) EllapsedTime: 52.4 seconds RetCode: 0 Status: OK