Package: miRSM Version: 2.3.0 Command: rm -rf miRSM.buildbin-libdir && mkdir miRSM.buildbin-libdir && E:\biocbuild\bbs-3.21-bioc\R\bin\R.exe CMD INSTALL --build --library=miRSM.buildbin-libdir miRSM_2.3.0.tar.gz StartedAt: 2025-02-05 08:21:51 -0500 (Wed, 05 Feb 2025) EndedAt: 2025-02-05 08:23:08 -0500 (Wed, 05 Feb 2025) EllapsedTime: 77.4 seconds RetCode: 0 Status: OK PackageFile: miRSM_2.3.0.zip PackageFileSize: 1.037 MiB