Package: miRSM Version: 2.3.0 Command: chmod a+r miRSM -R && E:\biocbuild\bbs-3.21-bioc\R\bin\R.exe CMD build --keep-empty-dirs --no-resave-data miRSM StartedAt: 2025-02-04 19:59:41 -0500 (Tue, 04 Feb 2025) EndedAt: 2025-02-04 20:01:57 -0500 (Tue, 04 Feb 2025) EllapsedTime: 136.0 seconds RetCode: 0 Status: OK PackageFile: miRSM_2.3.0.tar.gz PackageFileSize: 911.6 KiB