Package: miRcomp Version: 1.37.0 Command: /Library/Frameworks/R.framework/Resources/bin/R CMD build --keep-empty-dirs --no-resave-data miRcomp StartedAt: 2025-02-12 17:23:28 -0500 (Wed, 12 Feb 2025) EndedAt: 2025-02-12 17:24:10 -0500 (Wed, 12 Feb 2025) EllapsedTime: 42.4 seconds RetCode: 0 Status: OK PackageFile: miRcomp_1.37.0.tar.gz PackageFileSize: 3.324 MiB