Package: miRcomp Version: 1.37.0 Command: /home/biocbuild/bbs-3.21-bioc/R/bin/R CMD INSTALL miRcomp StartedAt: 2025-02-09 15:12:22 -0500 (Sun, 09 Feb 2025) EndedAt: 2025-02-09 15:12:26 -0500 (Sun, 09 Feb 2025) EllapsedTime: 3.5 seconds RetCode: 0 Status: OK