Package: miRcomp Version: 1.37.0 Command: rm -rf miRcomp.buildbin-libdir && mkdir miRcomp.buildbin-libdir && E:\biocbuild\bbs-3.21-bioc\R\bin\R.exe CMD INSTALL --build --library=miRcomp.buildbin-libdir miRcomp_1.37.0.tar.gz StartedAt: 2025-02-10 08:09:31 -0500 (Mon, 10 Feb 2025) EndedAt: 2025-02-10 08:09:42 -0500 (Mon, 10 Feb 2025) EllapsedTime: 11.6 seconds RetCode: 0 Status: OK PackageFile: miRcomp_1.37.0.zip PackageFileSize: 2.605 MiB