Package: miRcomp Version: 1.37.0 Command: chmod a+r miRcomp -R && E:\biocbuild\bbs-3.21-bioc\R\bin\R.exe CMD build --keep-empty-dirs --no-resave-data miRcomp StartedAt: 2025-02-09 19:56:19 -0500 (Sun, 09 Feb 2025) EndedAt: 2025-02-09 19:57:08 -0500 (Sun, 09 Feb 2025) EllapsedTime: 48.9 seconds RetCode: 0 Status: OK PackageFile: miRcomp_1.37.0.tar.gz PackageFileSize: 2.576 MiB