Package: miRspongeR Version: 2.11.0 Command: rm -rf miRspongeR.buildbin-libdir && mkdir miRspongeR.buildbin-libdir && /Users/biocbuild/BBS/utils/build-universal.sh miRspongeR_2.11.0.tar.gz /Library/Frameworks/R.framework/Resources/bin/R miRspongeR.buildbin-libdir StartedAt: 2025-02-09 22:21:27 -0500 (Sun, 09 Feb 2025) EndedAt: 2025-02-09 22:21:42 -0500 (Sun, 09 Feb 2025) EllapsedTime: 15.3 seconds RetCode: 0 Status: OK PackageFile: miRspongeR_2.11.0.tgz PackageFileSize: 796.9 KiB