Package: miRspongeR Version: 2.11.0 Command: /Library/Frameworks/R.framework/Resources/bin/R CMD build --keep-empty-dirs --no-resave-data miRspongeR StartedAt: 2025-02-09 16:57:46 -0500 (Sun, 09 Feb 2025) EndedAt: 2025-02-09 16:59:44 -0500 (Sun, 09 Feb 2025) EllapsedTime: 117.2 seconds RetCode: 0 Status: OK PackageFile: miRspongeR_2.11.0.tar.gz PackageFileSize: 646.3 KiB