Package: miRspongeR Version: 2.11.0 Command: /Library/Frameworks/R.framework/Resources/bin/R CMD check --install=check:miRspongeR.install-out.txt --library=/Library/Frameworks/R.framework/Resources/library --no-vignettes --timings miRspongeR_2.11.0.tar.gz StartedAt: 2025-02-03 20:45:52 -0500 (Mon, 03 Feb 2025) EndedAt: 2025-02-03 20:47:51 -0500 (Mon, 03 Feb 2025) EllapsedTime: 118.4 seconds RetCode: 0 Status: OK CheckDir: miRspongeR.Rcheck Warnings: 0