Package: miRspongeR Version: 2.11.0 Command: /Library/Frameworks/R.framework/Resources/bin/R CMD INSTALL miRspongeR StartedAt: 2025-02-09 15:29:51 -0500 (Sun, 09 Feb 2025) EndedAt: 2025-02-09 15:30:02 -0500 (Sun, 09 Feb 2025) EllapsedTime: 11.0 seconds RetCode: 0 Status: OK