Package: miRspongeR Version: 2.11.0 Command: /home/biocbuild/R/R/bin/R CMD build --keep-empty-dirs --no-resave-data miRspongeR StartedAt: 2025-01-29 00:23:44 -0000 (Wed, 29 Jan 2025) EndedAt: 2025-01-29 00:30:44 -0000 (Wed, 29 Jan 2025) EllapsedTime: 419.2 seconds RetCode: 0 Status: OK PackageFile: miRspongeR_2.11.0.tar.gz PackageFileSize: 671.7 KiB