Package: miRspongeR Version: 2.11.0 Command: /home/biocbuild/R/R/bin/R CMD INSTALL miRspongeR StartedAt: 2025-01-29 20:37:53 -0000 (Wed, 29 Jan 2025) EndedAt: 2025-01-29 20:38:36 -0000 (Wed, 29 Jan 2025) EllapsedTime: 43.5 seconds RetCode: 0 Status: OK