Package: miRspongeR Version: 2.11.0 Command: rm -rf miRspongeR.buildbin-libdir && mkdir miRspongeR.buildbin-libdir && /Users/biocbuild/BBS/utils/build-universal.sh miRspongeR_2.11.0.tar.gz /Library/Frameworks/R.framework/Resources/bin/R miRspongeR.buildbin-libdir StartedAt: 2025-02-10 01:03:10 -0500 (Mon, 10 Feb 2025) EndedAt: 2025-02-10 01:04:00 -0500 (Mon, 10 Feb 2025) EllapsedTime: 50.8 seconds RetCode: 0 Status: OK PackageFile: miRspongeR_2.11.0.tgz PackageFileSize: 795.7 KiB