Package: miRspongeR Version: 2.11.0 Command: /Library/Frameworks/R.framework/Resources/bin/R CMD check --install=check:miRspongeR.install-out.txt --library=/Library/Frameworks/R.framework/Resources/library --no-vignettes --timings miRspongeR_2.11.0.tar.gz StartedAt: 2025-02-09 21:58:17 -0500 (Sun, 09 Feb 2025) EndedAt: 2025-02-09 22:04:06 -0500 (Sun, 09 Feb 2025) EllapsedTime: 349.1 seconds RetCode: 0 Status: OK CheckDir: miRspongeR.Rcheck Warnings: 0