Package: miRspongeR Version: 2.11.0 Command: /home/biocbuild/bbs-3.21-bioc/R/bin/R CMD build --keep-empty-dirs --no-resave-data miRspongeR StartedAt: 2025-02-09 18:09:38 -0500 (Sun, 09 Feb 2025) EndedAt: 2025-02-09 18:15:07 -0500 (Sun, 09 Feb 2025) EllapsedTime: 329.3 seconds RetCode: 0 Status: OK PackageFile: miRspongeR_2.11.0.tar.gz PackageFileSize: 646.3 KiB