Package: miRspongeR Version: 2.11.0 Command: /home/biocbuild/bbs-3.21-bioc/R/bin/R CMD check --install=check:miRspongeR.install-out.txt --library=/home/biocbuild/bbs-3.21-bioc/R/site-library --timings miRspongeR_2.11.0.tar.gz StartedAt: 2025-02-04 00:21:27 -0500 (Tue, 04 Feb 2025) EndedAt: 2025-02-04 00:31:33 -0500 (Tue, 04 Feb 2025) EllapsedTime: 606.7 seconds RetCode: 0 Status: OK CheckDir: miRspongeR.Rcheck Warnings: 0