Package: miRspongeR Version: 2.11.0 Command: /home/biocbuild/bbs-3.21-bioc/R/bin/R CMD INSTALL miRspongeR StartedAt: 2025-02-03 15:57:11 -0500 (Mon, 03 Feb 2025) EndedAt: 2025-02-03 15:57:44 -0500 (Mon, 03 Feb 2025) EllapsedTime: 32.8 seconds RetCode: 0 Status: OK