Package: miRspongeR Version: 2.11.0 Command: rm -rf miRspongeR.buildbin-libdir && mkdir miRspongeR.buildbin-libdir && E:\biocbuild\bbs-3.21-bioc\R\bin\R.exe CMD INSTALL --build --library=miRspongeR.buildbin-libdir miRspongeR_2.11.0.tar.gz StartedAt: 2025-02-04 08:23:13 -0500 (Tue, 04 Feb 2025) EndedAt: 2025-02-04 08:24:27 -0500 (Tue, 04 Feb 2025) EllapsedTime: 73.7 seconds RetCode: 0 Status: OK PackageFile: miRspongeR_2.11.0.zip PackageFileSize: 797.6 KiB