Package: miRspongeR Version: 2.11.0 Command: chmod a+r miRspongeR -R && E:\biocbuild\bbs-3.21-bioc\R\bin\R.exe CMD build --keep-empty-dirs --no-resave-data miRspongeR StartedAt: 2025-02-09 19:57:21 -0500 (Sun, 09 Feb 2025) EndedAt: 2025-02-09 20:04:21 -0500 (Sun, 09 Feb 2025) EllapsedTime: 420.5 seconds RetCode: 0 Status: OK PackageFile: miRspongeR_2.11.0.tar.gz PackageFileSize: 646.5 KiB