Package: miRspongeR Version: 2.11.0 Command: E:\biocbuild\bbs-3.21-bioc\R\bin\R.exe CMD INSTALL miRspongeR StartedAt: 2025-02-09 16:19:23 -0500 (Sun, 09 Feb 2025) EndedAt: 2025-02-09 16:20:11 -0500 (Sun, 09 Feb 2025) EllapsedTime: 48.0 seconds RetCode: 0 Status: OK