Package: mia Version: 1.15.20 Command: /Library/Frameworks/R.framework/Resources/bin/R CMD build --keep-empty-dirs --no-resave-data mia StartedAt: 2025-02-09 16:55:33 -0500 (Sun, 09 Feb 2025) EndedAt: 2025-02-09 16:56:18 -0500 (Sun, 09 Feb 2025) EllapsedTime: 45.5 seconds RetCode: 0 Status: OK PackageFile: mia_1.15.20.tar.gz PackageFileSize: 2.993 MiB