Package: mia Version: 1.15.20 Command: /Library/Frameworks/R.framework/Resources/bin/R CMD INSTALL mia StartedAt: 2025-02-09 15:40:12 -0500 (Sun, 09 Feb 2025) EndedAt: 2025-02-09 15:41:17 -0500 (Sun, 09 Feb 2025) EllapsedTime: 65.8 seconds RetCode: 0 Status: OK