Package: mia Version: 1.15.20 Command: /home/biocbuild/bbs-3.21-bioc/R/bin/R CMD build --keep-empty-dirs --no-resave-data mia StartedAt: 2025-02-09 18:06:36 -0500 (Sun, 09 Feb 2025) EndedAt: 2025-02-09 18:08:16 -0500 (Sun, 09 Feb 2025) EllapsedTime: 99.1 seconds RetCode: 0 Status: OK PackageFile: mia_1.15.20.tar.gz PackageFileSize: 2.993 MiB