Package: mia Version: 1.15.20 Command: /home/biocbuild/bbs-3.21-bioc/R/bin/R CMD INSTALL mia StartedAt: 2025-02-09 15:53:57 -0500 (Sun, 09 Feb 2025) EndedAt: 2025-02-09 15:54:44 -0500 (Sun, 09 Feb 2025) EllapsedTime: 46.5 seconds RetCode: 0 Status: OK