Package: mia Version: 1.15.20 Command: rm -rf mia.buildbin-libdir && mkdir mia.buildbin-libdir && E:\biocbuild\bbs-3.21-bioc\R\bin\R.exe CMD INSTALL --build --library=mia.buildbin-libdir mia_1.15.20.tar.gz StartedAt: 2025-02-10 08:08:22 -0500 (Mon, 10 Feb 2025) EndedAt: 2025-02-10 08:10:50 -0500 (Mon, 10 Feb 2025) EllapsedTime: 147.5 seconds RetCode: 0 Status: OK PackageFile: mia_1.15.20.zip PackageFileSize: 3.596 MiB