Package: mia Version: 1.15.20 Command: chmod a+r mia -R && E:\biocbuild\bbs-3.21-bioc\R\bin\R.exe CMD build --keep-empty-dirs --no-resave-data mia StartedAt: 2025-02-09 19:53:09 -0500 (Sun, 09 Feb 2025) EndedAt: 2025-02-09 19:56:03 -0500 (Sun, 09 Feb 2025) EllapsedTime: 173.9 seconds RetCode: 0 Status: OK PackageFile: mia_1.15.20.tar.gz PackageFileSize: 2.993 MiB