Package: mia Version: 1.15.20 Command: E:\biocbuild\bbs-3.21-bioc\R\bin\R.exe CMD check --no-multiarch --install=check:mia.install-out.txt --library=E:\biocbuild\bbs-3.21-bioc\R\library --no-vignettes --timings mia_1.15.20.tar.gz StartedAt: 2025-02-10 02:53:40 -0500 (Mon, 10 Feb 2025) EndedAt: 2025-02-10 03:33:40 -0500 (Mon, 10 Feb 2025) EllapsedTime: 2400.6 seconds RetCode: None Status: TIMEOUT CheckDir: mia.Rcheck Warnings: NA