Package: miaViz Version: 1.15.6 Command: /Library/Frameworks/R.framework/Resources/bin/R CMD check --install=check:miaViz.install-out.txt --library=/Library/Frameworks/R.framework/Resources/library --no-vignettes --timings miaViz_1.15.6.tar.gz StartedAt: 2025-02-12 20:10:29 -0500 (Wed, 12 Feb 2025) EndedAt: 2025-02-12 20:13:38 -0500 (Wed, 12 Feb 2025) EllapsedTime: 189.3 seconds RetCode: 0 Status: OK CheckDir: miaViz.Rcheck Warnings: 0