Package: miaViz Version: 1.15.5 Command: /home/biocbuild/R/R/bin/R CMD build --keep-empty-dirs --no-resave-data miaViz StartedAt: 2025-01-29 00:18:52 -0000 (Wed, 29 Jan 2025) EndedAt: 2025-01-29 00:21:19 -0000 (Wed, 29 Jan 2025) EllapsedTime: 147.1 seconds RetCode: 0 Status: OK PackageFile: miaViz_1.15.5.tar.gz PackageFileSize: 1.291 MiB