Package: miaViz Version: 1.15.6 Command: /Library/Frameworks/R.framework/Resources/bin/R CMD build --keep-empty-dirs --no-resave-data miaViz StartedAt: 2025-02-12 17:22:11 -0500 (Wed, 12 Feb 2025) EndedAt: 2025-02-12 17:24:19 -0500 (Wed, 12 Feb 2025) EllapsedTime: 128.2 seconds RetCode: 0 Status: OK PackageFile: miaViz_1.15.6.tar.gz PackageFileSize: 2.527 MiB